BEGIN:VCALENDAR
VERSION:2.0
PRODID:-//Energetisches Heilen Doris Schaar - ECPv6.15.19//NONSGML v1.0//EN
CALSCALE:GREGORIAN
METHOD:PUBLISH
X-ORIGINAL-URL:https://www.doris-schaar.de
X-WR-CALDESC:Veranstaltungen für Energetisches Heilen Doris Schaar
REFRESH-INTERVAL;VALUE=DURATION:PT1H
X-Robots-Tag:noindex
X-PUBLISHED-TTL:PT1H
BEGIN:VTIMEZONE
TZID:Europe/Paris
BEGIN:DAYLIGHT
TZOFFSETFROM:+0100
TZOFFSETTO:+0200
TZNAME:CEST
DTSTART:20250330T010000
END:DAYLIGHT
BEGIN:STANDARD
TZOFFSETFROM:+0200
TZOFFSETTO:+0100
TZNAME:CET
DTSTART:20251026T010000
END:STANDARD
BEGIN:DAYLIGHT
TZOFFSETFROM:+0100
TZOFFSETTO:+0200
TZNAME:CEST
DTSTART:20260329T010000
END:DAYLIGHT
BEGIN:STANDARD
TZOFFSETFROM:+0200
TZOFFSETTO:+0100
TZNAME:CET
DTSTART:20261025T010000
END:STANDARD
BEGIN:DAYLIGHT
TZOFFSETFROM:+0100
TZOFFSETTO:+0200
TZNAME:CEST
DTSTART:20270328T010000
END:DAYLIGHT
BEGIN:STANDARD
TZOFFSETFROM:+0200
TZOFFSETTO:+0100
TZNAME:CET
DTSTART:20271031T010000
END:STANDARD
END:VTIMEZONE
BEGIN:VEVENT
DTSTART;TZID=Europe/Paris:20260411T100000
DTEND;TZID=Europe/Paris:20260411T180000
DTSTAMP:20260423T235528
CREATED:20260121T184228Z
LAST-MODIFIED:20260312T205954Z
UID:10000186-1775901600-1775930400@www.doris-schaar.de
SUMMARY:Aktuelle Entwicklungen im Fokus
DESCRIPTION:Samstag/Sonntag\, 11./12. April 2026\, 10:00–18:00 Uhr \n\n\n\nIntensivworkshop – Stabil und sicher in aufreibenden ZeitenFür Absolventinnen und Absolventen der Ausbildung Energetisches Heilen – Ein Weg der Selbstheilung. \n\n\n\n\n\n\n\n\n\n\n\n\n\nAufbauend auf dem Fundament der Ausbildung öffnet dieser Intensivworkshop einen Raum\, um das aktuelle Geschehen aus einer höheren Perspektive zu betrachten und ins bewusste Handeln zu kommen. \n\n\n\nEine Einladung\, tief einzutauchen und dich mit deiner inneren Wahrheit zu verbinden – um in dieser Zeit des Wandels zentriert\, klar und handlungsfähig zu sein. \n\n\n\nIch freue mich auf dich. \n\n\n\n\n\n\n\nVoraussetzung für die Teilnahme absolvierte Ausbildung Energetisches Heilen – Ein Weg der Selbstheilung \n\n\n\n\n\n\n\nPreis250\,– €Bezahlung Der Betrag ist im Voraus zu überweisen oder am ersten Tag des Workshops bar mitzubringen. \n\n\n\n\n\n\n\nVeranstaltungsort \n\n\n\n\n\n\n\n\n\nVerbindliche Anmeldung \n\n\n\nBis Samstag\, den 28. März 2026. \n\n\n\n\n\n\nAnmeldungen sind für diese Veranstaltung geschlossen.
URL:https://www.doris-schaar.de/event/aktuelle-entwicklungen-im-fokus-04-2026/
LOCATION:Praxis für Energetisches Heilen Doris Schaar\, Zum Quellental 58b\, 04889 Sitzenroda\, Deutschland
CATEGORIES:Ausbildung,Intensivworkshop
ATTACH;FMTTYPE=image/jpeg:https://www.doris-schaar.de/wp-content/uploads/2026/01/ds-sonne-nebel-alpen.jpg
END:VEVENT
BEGIN:VEVENT
DTSTART;TZID=Europe/Paris:20260415T193000
DTEND;TZID=Europe/Paris:20260415T203000
DTSTAMP:20260423T235528
CREATED:20260301T182817Z
LAST-MODIFIED:20260324T111823Z
UID:10000198-1776281400-1776285000@www.doris-schaar.de
SUMMARY:Zur Ruhe kommen und innere Stabilität finden
DESCRIPTION:MEDITATION UND ENERGIEÜBERMITTLUNG – onlineMittwoch\, 15. April 2026\, 19:30 – 20:30 Uhr \n\n\n\n\n\n\n\n\n\n\n\n\n\nNutze das Energiefeld der Klarheit\, Lebenskraft und Regeneration! \n\n\n\nKörper und Geist kommen zur Ruhe. Gedanken finden in die Stille. Emotionale Spannungen lösen sich. Ängste transformieren sich zu Hoffnung und Selbstvertrauen. \n\n\n\nDie heilenden Energieschwingungen intensivieren Lebensfreude und Kreativität. \n\n\n\n\n\n\n\nZu dieser Erfahrung bist du herzlich eingeladen. \n\n\n\n\n\n\n\nPreis25 € \n\n\n\n\n\n\n\nVeranstaltungsort \n\n\n\n\n\nDen Zugangslink erhältst du nach der Anmeldung. \n\n\n\n\n\n\n\nAnmeldung \n\n\n\nAnmeldeschluss ist am Vortag um 24:00 Uhr. \n\n\n\n\n\n\nAnmeldungen sind für diese Veranstaltung geschlossen.
URL:https://www.doris-schaar.de/event/zur-ruhe-kommen-und-innere-stabilitaet-finden-15-04-26/
LOCATION:Online
CATEGORIES:Meditation
ATTACH;FMTTYPE=image/jpeg:https://www.doris-schaar.de/wp-content/uploads/2023/04/ds_schaukel_blauer_himmel.jpg
END:VEVENT
END:VCALENDAR