BEGIN:VCALENDAR
VERSION:2.0
PRODID:-//Energetisches Heilen Doris Schaar - ECPv6.15.19//NONSGML v1.0//EN
CALSCALE:GREGORIAN
METHOD:PUBLISH
X-WR-CALNAME:Energetisches Heilen Doris Schaar
X-ORIGINAL-URL:https://www.doris-schaar.de
X-WR-CALDESC:Veranstaltungen für Energetisches Heilen Doris Schaar
REFRESH-INTERVAL;VALUE=DURATION:PT1H
X-Robots-Tag:noindex
X-PUBLISHED-TTL:PT1H
BEGIN:VTIMEZONE
TZID:UTC
BEGIN:STANDARD
TZOFFSETFROM:+0000
TZOFFSETTO:+0000
TZNAME:UTC
DTSTART:20220101T000000
END:STANDARD
END:VTIMEZONE
BEGIN:VTIMEZONE
TZID:Europe/Paris
BEGIN:DAYLIGHT
TZOFFSETFROM:+0100
TZOFFSETTO:+0200
TZNAME:CEST
DTSTART:20210328T010000
END:DAYLIGHT
BEGIN:STANDARD
TZOFFSETFROM:+0200
TZOFFSETTO:+0100
TZNAME:CET
DTSTART:20211031T010000
END:STANDARD
BEGIN:DAYLIGHT
TZOFFSETFROM:+0100
TZOFFSETTO:+0200
TZNAME:CEST
DTSTART:20220327T010000
END:DAYLIGHT
BEGIN:STANDARD
TZOFFSETFROM:+0200
TZOFFSETTO:+0100
TZNAME:CET
DTSTART:20221030T010000
END:STANDARD
BEGIN:DAYLIGHT
TZOFFSETFROM:+0100
TZOFFSETTO:+0200
TZNAME:CEST
DTSTART:20230326T010000
END:DAYLIGHT
BEGIN:STANDARD
TZOFFSETFROM:+0200
TZOFFSETTO:+0100
TZNAME:CET
DTSTART:20231029T010000
END:STANDARD
END:VTIMEZONE
BEGIN:VEVENT
DTSTART;TZID=UTC:20230509T193000
DTEND;TZID=UTC:20230509T210000
DTSTAMP:20260424T173619
CREATED:20230303T175122Z
LAST-MODIFIED:20230428T202644Z
UID:10000083-1683660600-1683666000@www.doris-schaar.de
SUMMARY:Spiritueller Frauenkreis
DESCRIPTION:Dienstag\, 9. Mai 2023\, 19:30–21:00 Uhr \n\n\n\n\n\n\n\n\n\n\n\n\n\nWissen wir wirklich\, was die Weiblichkeit von uns Frauen ausmacht\, jenseits vollmundiger Werbeversprechen wie seidig glatter Beine und makelloser Haut? \n\n\n\nHaben wir unsere weibliche Würde verloren? Möglicherweise ja. Ist die Gesellschaft schuld daran\, die Männer\, die Vorfahren? \n\n\n\nMüssten sie sich verändern\, damit wir das Weibliche wieder entdecken\, lieben und aktiv leben können? Oder ist es zielführender\, unsere eigene Wahrnehmung und Überzeugung über Weiblichkeit neu auszurichten und somit die Sicht auf uns selbst? \n\n\n\n\n\n\n\nAllzu vertraut ist uns das Gefühl\, nicht genug zu sein – oder zu viel. Wir kennen die emotionalen und körperlichen Auswirkungen entwürdigender Erlebnisse sowie die daraus resultierende Selbstkritik\, Ablehnung und allgegenwärtige Verunsicherung. \n\n\n\nDie Ursachen dieses verzerrten Selbstbildes brauchen Heilung. Sobald wir unsere weiblichen Facetten wieder mit offenen Armen willkommen heißen\, kehren Sinnlichkeit und Schöpferkraft zu uns zurück. Mit Natürlichkeit nehmen wir dann den Raum in der Gesellschaft wieder ein. \n\n\n\nIndem wir uns also von Neuem selbst lieben lernen\, erschaffen wir die Basis für glückliche\, gleichwertige Beziehungen\, einschließlich einer neuen Qualität der Partnerschaft – jenseits von Bedürftigkeit. \n\n\n\n\n\n\n\nIn diesem regelmäßigen Frauenkreis stellen wir uns typisch weiblichen Herausforderungen. Angeleitet gehen wir dabei in den Prozess der Bewusstwerdung\, erleben Veränderung durch Energieheilprozesse und erschließen uns wieder das Fundament der eigenen Würde. \n\n\n\n\n\n\n\nIch freue mich sehr\, mit dir gemeinsam diesen Weg zu gehen – auf die Begegnung von Frau zu Frau\, von Herz zu Herz\, von Seele zu Seele. \n\n\n\n\n\n\n\nPreis25 € \n\n\n\n\n\n\n\nVeranstaltungsort \n\n\n\n\n\n\n\n\n\nAnmeldung \n\n\n\nAnmeldeschluss ist Donnerstag\, der 4. Mai 2023. \n\n\n\n\n\n\n\n\n\n\n\n\n\nWeitere Frauenkreise sind am \n\n\n\nDonnerstag\, 8. Juni 2023 \n\n\n\nDienstag\, 27. Juni 2023 \n\n\n\nDonnerstag\, 27. Juli 2023 \n\n\n\nDienstag\, 22. August 2023 \n\n\n\nDienstag\, 10. Oktober 2023 \n\n\n\nDienstag\, 14. November 2023 \n\n\n\nFreitag\, 1. Dezember 2023
URL:https://www.doris-schaar.de/event/spiritueller-frauenkreis-09-05/
LOCATION:Praxis für Energetisches Heilen Doris Schaar\, Zum Quellental 58b\, 04889 Sitzenroda\, Deutschland
CATEGORIES:Heilkreis
ATTACH;FMTTYPE=image/jpeg:https://www.doris-schaar.de/wp-content/uploads/2023/03/ds_frauen.jpg
END:VEVENT
BEGIN:VEVENT
DTSTART;TZID=UTC:20230417T193000
DTEND;TZID=UTC:20230417T210000
DTSTAMP:20260424T173619
CREATED:20230217T223833Z
LAST-MODIFIED:20230408T100924Z
UID:10000071-1681759800-1681765200@www.doris-schaar.de
SUMMARY:Spiritueller Frauenkreis
DESCRIPTION:Montag\, 17. April 2023\, 19:30–21:00 Uhr \n\n\n\n\n\n\n\n\n\n\n\n\n\nWissen wir wirklich\, was die Weiblichkeit von uns Frauen ausmacht\, jenseits vollmundiger Werbeversprechen wie seidig glatter Beine und makelloser Haut? \n\n\n\nHaben wir unsere weibliche Würde verloren? Möglicherweise ja. Ist die Gesellschaft schuld daran\, die Männer\, die Vorfahren? \n\n\n\nMüssten sie sich verändern\, damit wir das Weibliche wieder entdecken\, lieben und aktiv leben können? Oder ist es zielführender\, unsere eigene Wahrnehmung und Überzeugung über Weiblichkeit neu auszurichten und somit die Sicht auf uns selbst? \n\n\n\n\n\n\n\nAllzu vertraut ist uns das Gefühl\, nicht genug zu sein – oder zu viel. Wir kennen die emotionalen und körperlichen Auswirkungen entwürdigender Erlebnisse sowie die daraus resultierende Selbstkritik\, Ablehnung und allgegenwärtige Verunsicherung. \n\n\n\nDie Ursachen dieses verzerrten Selbstbildes brauchen Heilung. Sobald wir unsere weiblichen Facetten wieder mit offenen Armen willkommen heißen\, kehren Sinnlichkeit und Schöpferkraft zu uns zurück. Mit Natürlichkeit nehmen wir dann den Raum in der Gesellschaft wieder ein. \n\n\n\nIndem wir uns also von Neuem selbst lieben lernen\, erschaffen wir die Basis für glückliche\, gleichwertige Beziehungen\, einschließlich einer neuen Qualität der Partnerschaft – jenseits von Bedürftigkeit. \n\n\n\n\n\n\n\nIn diesem regelmäßigen Frauenkreis stellen wir uns typisch weiblichen Herausforderungen. Angeleitet gehen wir dabei in den Prozess der Bewusstwerdung\, erleben Veränderung durch Energieheilprozesse und erschließen uns wieder das Fundament der eigenen Würde. \n\n\n\n\n\n\n\nIch freue mich sehr\, mit dir gemeinsam diesen Weg zu gehen – auf die Begegnung von Frau zu Frau\, von Herz zu Herz\, von Seele zu Seele. \n\n\n\n\n\n\n\nPreis20 € \n\n\n\n\n\n\n\nVeranstaltungsort \n\n\n\n\n\n\n\n\n\nAnmeldung \n\n\n\nAnmeldeschluss ist Mittwoch\, der 12. April 2023. \n\n\n\n\n\n\n\n\n\n\n\n\n\nWeitere Frauenkreise sind am \n\n\n\nDienstag\, 9. Mai 2023 \n\n\n\nDonnerstag\, 8. Juni 2023 \n\n\n\nDienstag\, 27. Juni 2023 \n\n\n\nDonnerstag\, 27. Juli 2023 \n\n\n\nDienstag\, 22. August 2023 \n\n\n\nDienstag\, 10. Oktober 2023 \n\n\n\nDienstag\, 14. November 2023 \n\n\n\nFreitag\, 1. Dezember 2023
URL:https://www.doris-schaar.de/event/spiritueller-frauenkreis-17-04/
LOCATION:Praxis für Energetisches Heilen Doris Schaar\, Zum Quellental 58b\, 04889 Sitzenroda\, Deutschland
CATEGORIES:Heilkreis
ATTACH;FMTTYPE=image/jpeg:https://www.doris-schaar.de/wp-content/uploads/2023/03/ds_frauen.jpg
END:VEVENT
BEGIN:VEVENT
DTSTART;TZID=Europe/Paris:20221214T190000
DTEND;TZID=Europe/Paris:20221214T190000
DTSTAMP:20260424T173619
CREATED:20211130T170500Z
LAST-MODIFIED:20230213T160453Z
UID:10000058-1671044400-1671044400@www.doris-schaar.de
SUMMARY:Winterstille
DESCRIPTION:Zur Wintersonnenwende feiern wir die Wiederkehr des Lichtes im Jahreskreis. Mag auch der Winter mit einigen Wochen Kälte noch ins Haus stehen\, bereitet sich doch die Rückkehr des Frühlings\, ein neuer Anfang und neue Kraft in unserem Leben\, seit diesem Tag unabwendbar vor. Um gelassen diesem Aufbruch entgegen sehen zu können\, hält der Winter in seiner Qualität ein besonderes Geschenk bereit: Die Möglichkeit der Ruhe. Die Zurückgezogenheit der Natur im Winter dient uns selbst zur Einkehr\, zum inneren Abschließen beziehungsweise Zurücklassen und der Rückschau auf die vergangenen Erlebnisse. Nutzen wir diese Zeit gewinnbringend\, um kraftvoll vorbereitet und in Klarheit Neues beginnen zu können. Ich lade dich ein\, die winterliche Stille in dir zu finden und die Energie dieser Jahreszeit bewusst für dich zu nutzen.Bitte mitbringenDecke oder Kissen zum Sitzen auf dem Boden\, gerne auch eine Matte zum Liegen für die Energieübermittlung.Preis   30 € \n \n\n\n\nOnline-Teilnahme  Du kannst an der Veranstaltung auch per Zoom teilnehmen. Gib es bei deiner Anmeldung einfach im Feld „Bemerkungen“ an\, dann erhältst du den Zugangslink. \n  \n\n\n\n\n \nAnmeldungAnmeldeschluss ist Montag\, der 12. Dezember 2022. \n 
URL:https://www.doris-schaar.de/event/winterstille-2022/
LOCATION:Praxis für Energetisches Heilen Doris Schaar\, Zum Quellental 58b\, 04889 Sitzenroda\, Deutschland
CATEGORIES:Jahreskreis-Veranstaltung
ATTACH;FMTTYPE=image/jpeg:https://www.doris-schaar.de/wp-content/uploads/2020/12/ds_winterstille.jpg
END:VEVENT
BEGIN:VEVENT
DTSTART;TZID=Europe/Paris:20220928T190000
DTEND;TZID=Europe/Paris:20220928T190000
DTSTAMP:20260424T173619
CREATED:20211130T194457Z
LAST-MODIFIED:20230215T141419Z
UID:10000059-1664391600-1664391600@www.doris-schaar.de
SUMMARY:Zurückgeblickt
DESCRIPTION:Wenn die sommerliche Geschäftigkeit in die Ruhe des Herbstes übergeht\, können wir die Dinge sprichwörtlich in einem anderen Licht sehen. Im Jahresrhythmus ist dies eine gute Zeit\, zurück zu schauen auf den Weg\, der hinter uns liegt: Wir haben gesät und gehegt\, sind gewachsen und gereift.  \nEs ist die Gelegenheit\, anzuerkennen und zu würdigen\, was wir erreicht haben. Gleichzeitig sind wir angehalten\, zu hinterfragen\, ob die Früchte\, die wir ernten\, tatsächlich jener Vision entsprechen\, die wir unsprünglich umsetzen wollten. Allzu oft weichen wir unbewusst vom Weg ab und sind verwundert\, wenn wir unsere Ziele aus den Augen verlieren.  \nDurch die Betrachtung des Vergangenen haben wir die Möglichkeit\, aus unseren Fehlern zu lernen\, uns neu zu orientieren und auszurichten sowie unser Wissen und die gesammelten Erfahrungen weiterzugeben. Herzlich willkommen zu diesem Abend des bewussten Reflektierens. \n \nBitte mitbringen: Decke oder Kissen zum Sitzen auf dem Boden\, gerne auch eine Matte zum Liegen für die Energieübermittlung. Preis   30 € \n \n \n \n \n \n \nAnmeldung \n \n \n \n \n \nAnmeldeschluss ist Sonntag\, der 25. September 2022.
URL:https://www.doris-schaar.de/event/zurueckgeblickt-2022/
LOCATION:Praxis für Energetisches Heilen Doris Schaar\, Zum Quellental 58b\, 04889 Sitzenroda\, Deutschland
CATEGORIES:Jahreskreis-Veranstaltung
ATTACH;FMTTYPE=image/jpeg:https://www.doris-schaar.de/wp-content/uploads/2020/12/ds_herbst_see_bank.jpg
END:VEVENT
END:VCALENDAR